BEGIN:VCALENDAR
VERSION:2.0
PRODID:-//CEX XÀBIA - ECPv6.15.20//NONSGML v1.0//EN
CALSCALE:GREGORIAN
METHOD:PUBLISH
X-WR-CALNAME:CEX XÀBIA
X-ORIGINAL-URL:https://www.cexxabia.com
X-WR-CALDESC:Eventos para CEX XÀBIA
REFRESH-INTERVAL;VALUE=DURATION:PT1H
X-Robots-Tag:noindex
X-PUBLISHED-TTL:PT1H
BEGIN:VTIMEZONE
TZID:Europe/Madrid
BEGIN:DAYLIGHT
TZOFFSETFROM:+0100
TZOFFSETTO:+0200
TZNAME:CEST
DTSTART:20250330T010000
END:DAYLIGHT
BEGIN:STANDARD
TZOFFSETFROM:+0200
TZOFFSETTO:+0100
TZNAME:CET
DTSTART:20251026T010000
END:STANDARD
BEGIN:DAYLIGHT
TZOFFSETFROM:+0100
TZOFFSETTO:+0200
TZNAME:CEST
DTSTART:20260329T010000
END:DAYLIGHT
BEGIN:STANDARD
TZOFFSETFROM:+0200
TZOFFSETTO:+0100
TZNAME:CET
DTSTART:20261025T010000
END:STANDARD
BEGIN:DAYLIGHT
TZOFFSETFROM:+0100
TZOFFSETTO:+0200
TZNAME:CEST
DTSTART:20270328T010000
END:DAYLIGHT
BEGIN:STANDARD
TZOFFSETFROM:+0200
TZOFFSETTO:+0100
TZNAME:CET
DTSTART:20271031T010000
END:STANDARD
END:VTIMEZONE
BEGIN:VEVENT
DTSTART;TZID=Europe/Madrid:20260515T080000
DTEND;TZID=Europe/Madrid:20260515T150000
DTSTAMP:20260420T171344
CREATED:20260223T175339Z
LAST-MODIFIED:20260223T175339Z
UID:7669-1778832000-1778857200@www.cexxabia.com
SUMMARY:Conferència 50 anys Centre Excursionista Xàbia
DESCRIPTION:
URL:https://www.cexxabia.com/event/conferencia-50-anys-centre-excursionista-xabia/
END:VEVENT
BEGIN:VEVENT
DTSTART;TZID=Europe/Madrid:20260516T080000
DTEND;TZID=Europe/Madrid:20260516T150000
DTSTAMP:20260420T171344
CREATED:20260223T175445Z
LAST-MODIFIED:20260223T175445Z
UID:7671-1778918400-1778943600@www.cexxabia.com
SUMMARY:Escoleta de Muntanya: Rokòdrom
DESCRIPTION:
URL:https://www.cexxabia.com/event/escoleta-de-muntanya-rokodrom/
END:VEVENT
BEGIN:VEVENT
DTSTART;TZID=Europe/Madrid:20260524T080000
DTEND;TZID=Europe/Madrid:20260524T150000
DTSTAMP:20260420T171344
CREATED:20260223T175533Z
LAST-MODIFIED:20260223T175533Z
UID:7673-1779609600-1779634800@www.cexxabia.com
SUMMARY:Excursió a la Serra de les Creus
DESCRIPTION:
URL:https://www.cexxabia.com/event/excursio-a-la-serra-de-les-creus/
END:VEVENT
END:VCALENDAR