BEGIN:VCALENDAR
VERSION:2.0
PRODID:-//CEX XÀBIA - ECPv6.15.20//NONSGML v1.0//EN
CALSCALE:GREGORIAN
METHOD:PUBLISH
X-WR-CALNAME:CEX XÀBIA
X-ORIGINAL-URL:https://www.cexxabia.com
X-WR-CALDESC:Eventos para CEX XÀBIA
REFRESH-INTERVAL;VALUE=DURATION:PT1H
X-Robots-Tag:noindex
X-PUBLISHED-TTL:PT1H
BEGIN:VTIMEZONE
TZID:Europe/Madrid
BEGIN:DAYLIGHT
TZOFFSETFROM:+0100
TZOFFSETTO:+0200
TZNAME:CEST
DTSTART:20210328T010000
END:DAYLIGHT
BEGIN:STANDARD
TZOFFSETFROM:+0200
TZOFFSETTO:+0100
TZNAME:CET
DTSTART:20211031T010000
END:STANDARD
BEGIN:DAYLIGHT
TZOFFSETFROM:+0100
TZOFFSETTO:+0200
TZNAME:CEST
DTSTART:20220327T010000
END:DAYLIGHT
BEGIN:STANDARD
TZOFFSETFROM:+0200
TZOFFSETTO:+0100
TZNAME:CET
DTSTART:20221030T010000
END:STANDARD
BEGIN:DAYLIGHT
TZOFFSETFROM:+0100
TZOFFSETTO:+0200
TZNAME:CEST
DTSTART:20230326T010000
END:DAYLIGHT
BEGIN:STANDARD
TZOFFSETFROM:+0200
TZOFFSETTO:+0100
TZNAME:CET
DTSTART:20231029T010000
END:STANDARD
END:VTIMEZONE
BEGIN:VEVENT
DTSTART;VALUE=DATE:20220901
DTEND;VALUE=DATE:20220903
DTSTAMP:20260423T073835
CREATED:20220725T083143Z
LAST-MODIFIED:20220725T083800Z
UID:2155-1661997600-1662083999@www.cexxabia.com
SUMMARY:Programación eventos 2022-2023
DESCRIPTION:El próximo día 1 de septiembre realizaremos la programación de eventos del CEX para la temporada final de este año 2022 y la programación de la primera temporada del año 2023. \n¡Estad atentos!
URL:https://www.cexxabia.com/event/programacion-eventos-2022-2023/
LOCATION:CEX\, C/ Cronista Mossen Febrer\, 5\, Xàbia\, Alicante\, 03730\, España
ATTACH;FMTTYPE=image/jpeg:https://www.cexxabia.com/wp-content/uploads/2022/07/CEX-programacion-eventos-2022-2023.jpg
END:VEVENT
BEGIN:VEVENT
DTSTART;TZID=Europe/Madrid:20220924T080000
DTEND;TZID=Europe/Madrid:20220924T180000
DTSTAMP:20260423T073835
CREATED:20220922T163102Z
LAST-MODIFIED:20220922T164611Z
UID:2963-1664006400-1664042400@www.cexxabia.com
SUMMARY:Excursión al Maigmó
DESCRIPTION:El pròxim dia 24 de setembre\,   el Centre Excursionista de Xàbia\, organitza una eixida per la Via Verda i el Cim del Maigmó.  \nEixida: L’eixida tindrà lloc des de la parada d’autobusos   de Xàbia a les 8h \n Recomanacions: per a esta ruta és necessari\, portar calçat adequat per a caminar per la muntanya\, aigua\, algo de menjar per a esmorzar i dinar\, ja que en acabar anirem a la sede de la FEMECV per a participar en les votacions de l’assamblea. \n Ruta: L’excursió tindrà uns 17km de recorregut i  850m de desnivell positiu. \nInscripcions:  al mail   cexxabia@gmail.com o al whatsapp 650881149 \nAnima’t i apunta’t»
URL:https://www.cexxabia.com/event/excursion-al-maigmo/
LOCATION:Parada autobuses\, Avenida Palmela\, Xàbia\, Alicante\, 03730\, España
CATEGORIES:excursión
ATTACH;FMTTYPE=image/jpeg:https://www.cexxabia.com/wp-content/uploads/2022/09/IMGP0111.jpg
END:VEVENT
END:VCALENDAR