BEGIN:VCALENDAR
VERSION:2.0
PRODID:-//CEX XÀBIA - ECPv6.15.20//NONSGML v1.0//EN
CALSCALE:GREGORIAN
METHOD:PUBLISH
X-WR-CALNAME:CEX XÀBIA
X-ORIGINAL-URL:https://www.cexxabia.com
X-WR-CALDESC:Eventos para CEX XÀBIA
REFRESH-INTERVAL;VALUE=DURATION:PT1H
X-Robots-Tag:noindex
X-PUBLISHED-TTL:PT1H
BEGIN:VTIMEZONE
TZID:Europe/Madrid
BEGIN:DAYLIGHT
TZOFFSETFROM:+0100
TZOFFSETTO:+0200
TZNAME:CEST
DTSTART:20210328T010000
END:DAYLIGHT
BEGIN:STANDARD
TZOFFSETFROM:+0200
TZOFFSETTO:+0100
TZNAME:CET
DTSTART:20211031T010000
END:STANDARD
BEGIN:DAYLIGHT
TZOFFSETFROM:+0100
TZOFFSETTO:+0200
TZNAME:CEST
DTSTART:20220327T010000
END:DAYLIGHT
BEGIN:STANDARD
TZOFFSETFROM:+0200
TZOFFSETTO:+0100
TZNAME:CET
DTSTART:20221030T010000
END:STANDARD
BEGIN:DAYLIGHT
TZOFFSETFROM:+0100
TZOFFSETTO:+0200
TZNAME:CEST
DTSTART:20230326T010000
END:DAYLIGHT
BEGIN:STANDARD
TZOFFSETFROM:+0200
TZOFFSETTO:+0100
TZNAME:CET
DTSTART:20231029T010000
END:STANDARD
END:VTIMEZONE
BEGIN:VEVENT
DTSTART;TZID=Europe/Madrid:20221209T200000
DTEND;TZID=Europe/Madrid:20221209T213000
DTSTAMP:20260423T025819
CREATED:20221126T110606Z
LAST-MODIFIED:20221126T110606Z
UID:3562-1670616000-1670621400@www.cexxabia.com
SUMMARY:Pase Audiovisual Dia Internacional de les Muntanyes
DESCRIPTION:El pròxim divendres dia 9 de desembre en la casa de la cultura de Xàbia a les 20h. L’equip d’alpinisme “Mujeres Trangoworld”\, farà la projecció del Denali o McKinley\, que amb els seus 6190m es la muntanya mes alta de America del Nord \n“Montañas con rostro de mujer”
URL:https://www.cexxabia.com/event/pase-audiovisual-dia-internacional-de-les-muntanyes/
ATTACH;FMTTYPE=image/png:https://www.cexxabia.com/wp-content/uploads/2022/11/mackinley.png
END:VEVENT
BEGIN:VEVENT
DTSTART;TZID=Europe/Madrid:20221211T080000
DTEND;TZID=Europe/Madrid:20221211T140000
DTSTAMP:20260423T025819
CREATED:20221126T111229Z
LAST-MODIFIED:20221126T111229Z
UID:3566-1670745600-1670767200@www.cexxabia.com
SUMMARY:Montgó Dia Internacional de les Muntanyes
DESCRIPTION:El pròxim dia 11 de desembre\,   el Centre Excursionista de Xàbia\, organitza una excursió al Montgó\, per a cel.lebrar el dia internacional de les muntanyes .  \nEixida: L’eixida tindrà lloc des de la parada del bus de Xàbia a les 8h i des d’alli ens desplaçarem al punt d’inici de la ruta. \nRecomanacions: per a esta ruta és necessari\, portar calçat adequat per a caminar per la muntanya\, aigua\, menjar i roba d’abric. \nInscripcions:  al mail   cexxabia@gmail.com o al whatsapp 650881149
URL:https://www.cexxabia.com/event/montgo-dia-internacional-de-les-muntanyes/
ATTACH;FMTTYPE=image/jpeg:https://www.cexxabia.com/wp-content/uploads/2022/11/montgo.jpg
END:VEVENT
BEGIN:VEVENT
DTSTART;TZID=Europe/Madrid:20221216T183000
DTEND;TZID=Europe/Madrid:20221216T200000
DTSTAMP:20260423T025819
CREATED:20221126T112129Z
LAST-MODIFIED:20221126T112129Z
UID:3576-1671215400-1671220800@www.cexxabia.com
SUMMARY:Premis FEMECV
DESCRIPTION:El pròxim divendres dia 16 de desembre es fara entrega en la Casa de la Cultura de Xàbia a les 18:30h dels premis de la femecv 2022
URL:https://www.cexxabia.com/event/premis-femecv/
ATTACH;FMTTYPE=image/jpeg:https://www.cexxabia.com/wp-content/uploads/2022/11/premis-femecv.jpg
END:VEVENT
BEGIN:VEVENT
DTSTART;TZID=Europe/Madrid:20221217T123000
DTEND;TZID=Europe/Madrid:20221217T133000
DTSTAMP:20260423T025819
CREATED:20221212T085305Z
LAST-MODIFIED:20221212T085417Z
UID:3742-1671280200-1671283800@www.cexxabia.com
SUMMARY:Pase Audiovisual - Exploraciones Espeleológicas en el Caucaso
DESCRIPTION:La segunda sima más profunda del mundo conocida hasta la fecha\, Krúbera-Voronya \nDr. Sergio García-Dils – Miembro del equipo hispano-ruso CAVEX Team. Récord mundial de espeleología\, -2.200m (Krúbera-Voronya) \n 
URL:https://www.cexxabia.com/event/pase-audiovisual-exploraciones-espeleologicas-en-el-caucaso/
LOCATION:Casa de la Cultura – Xàbia\, Plaça de Baix\, 6\, Xàbia\, Alicante\, 03730\, España
ATTACH;FMTTYPE=image/jpeg:https://www.cexxabia.com/wp-content/uploads/2022/12/PHOTO-2022-12-11-20-32-55.jpg
END:VEVENT
BEGIN:VEVENT
DTSTART;TZID=Europe/Madrid:20221218T090000
DTEND;TZID=Europe/Madrid:20221218T140000
DTSTAMP:20260423T025819
CREATED:20221126T111258Z
LAST-MODIFIED:20221126T111613Z
UID:3570-1671354000-1671372000@www.cexxabia.com
SUMMARY:Excursio Nadalenca
DESCRIPTION:Anem fent camí i ensenyant als més joves a disfrutar de la natura\, els llocs i història de la nostra terra. \nLa pròxima ixida\, el CEX farà la tradicional ruta Nadalenca.   \nVos esperem a tots\, xiquets i majors\, el diumenge dia 18 de desembre\, a les 9h en la plaça de la Constitució per a començar la ruta i rebre les festes nadalenques en mig de la natura. No s’oblideu del gorret del Pare Noel. La tornada està prevista sobre  les 14:00h. \nQui vullga participar en esta ixida s’ha d’inscriure  com a mínim dos dies abans de la seua realització\, en el mail cexxabia@gmail.com o en el  telèfon 699 35 53 70. \nNo falteu\, comptem amb vosaltres.
URL:https://www.cexxabia.com/event/excursio-nadalenca/
ATTACH;FMTTYPE=image/jpeg:https://www.cexxabia.com/wp-content/uploads/2022/11/nadalenca.jpg
END:VEVENT
END:VCALENDAR