BEGIN:VCALENDAR
VERSION:2.0
PRODID:-//CEX XÀBIA - ECPv6.15.20//NONSGML v1.0//EN
CALSCALE:GREGORIAN
METHOD:PUBLISH
X-WR-CALNAME:CEX XÀBIA
X-ORIGINAL-URL:https://www.cexxabia.com
X-WR-CALDESC:Eventos para CEX XÀBIA
REFRESH-INTERVAL;VALUE=DURATION:PT1H
X-Robots-Tag:noindex
X-PUBLISHED-TTL:PT1H
BEGIN:VTIMEZONE
TZID:Europe/Madrid
BEGIN:DAYLIGHT
TZOFFSETFROM:+0100
TZOFFSETTO:+0200
TZNAME:CEST
DTSTART:20220327T010000
END:DAYLIGHT
BEGIN:STANDARD
TZOFFSETFROM:+0200
TZOFFSETTO:+0100
TZNAME:CET
DTSTART:20221030T010000
END:STANDARD
BEGIN:DAYLIGHT
TZOFFSETFROM:+0100
TZOFFSETTO:+0200
TZNAME:CEST
DTSTART:20230326T010000
END:DAYLIGHT
BEGIN:STANDARD
TZOFFSETFROM:+0200
TZOFFSETTO:+0100
TZNAME:CET
DTSTART:20231029T010000
END:STANDARD
BEGIN:DAYLIGHT
TZOFFSETFROM:+0100
TZOFFSETTO:+0200
TZNAME:CEST
DTSTART:20240331T010000
END:DAYLIGHT
BEGIN:STANDARD
TZOFFSETFROM:+0200
TZOFFSETTO:+0100
TZNAME:CET
DTSTART:20241027T010000
END:STANDARD
BEGIN:DAYLIGHT
TZOFFSETFROM:+0100
TZOFFSETTO:+0200
TZNAME:CEST
DTSTART:20250330T010000
END:DAYLIGHT
BEGIN:STANDARD
TZOFFSETFROM:+0200
TZOFFSETTO:+0100
TZNAME:CET
DTSTART:20251026T010000
END:STANDARD
END:VTIMEZONE
BEGIN:VEVENT
DTSTART;VALUE=DATE:20231029
DTEND;VALUE=DATE:20240422
DTSTAMP:20260422T103617
CREATED:20230930T120223Z
LAST-MODIFIED:20230930T131807Z
UID:4851-1698537600-1713743999@www.cexxabia.com
SUMMARY:III CIRCUIT SET CIMS CEX
DESCRIPTION:Vos presentem el nou circuit Set Cims del Centre Excursionista Xàbia.\nEs tracta d’un nou circuit on es pujaran set cims\n*Bernia\, *Benicadell\, *Montcabrer\, *Montgó\, *Cavall Verd\, *Aitana i *Malla del Llop.\nUna cada mes fins a completar el circuit.\nSi tens ganes de practicar senderisme en bona companyia.\nNo ho dubtes apunta’t.\nPlaces limitades\nSalut i muntanya
URL:https://www.cexxabia.com/event/iii-circuit-set-cims-cex/
LOCATION:CEX\, C/ Cronista Mossen Febrer\, 5\, Xàbia\, Alicante\, 03730\, España
CATEGORIES:circuit,excursión
ATTACH;FMTTYPE=image/jpeg:https://www.cexxabia.com/wp-content/uploads/2023/09/378367099_7494826290544403_1257541554611779890_n.jpg
END:VEVENT
BEGIN:VEVENT
DTSTART;VALUE=DATE:20231112
DTEND;VALUE=DATE:20231113
DTSTAMP:20260422T103617
CREATED:20231106T144526Z
LAST-MODIFIED:20231106T145527Z
UID:4995-1699747200-1699833599@www.cexxabia.com
SUMMARY:Excursión a la Serra de L'Oltà (Calp) Escoleta de muntanya
DESCRIPTION:Mes info en cexxabia@gmail.com \n 
URL:https://www.cexxabia.com/event/excursion-a-la-serra-de-lolta-calp/
LOCATION:CEX\, C/ Cronista Mossen Febrer\, 5\, Xàbia\, Alicante\, 03730\, España
CATEGORIES:Escoleta de muntanya,excursión
ATTACH;FMTTYPE=image/jpeg:https://www.cexxabia.com/wp-content/uploads/2023/11/12-11-2023-OLTA.jpg
END:VEVENT
BEGIN:VEVENT
DTSTART;TZID=Europe/Madrid:20231117T200000
DTEND;TZID=Europe/Madrid:20231117T213000
DTSTAMP:20260422T103617
CREATED:20231106T150031Z
LAST-MODIFIED:20231106T150047Z
UID:5003-1700251200-1700256600@www.cexxabia.com
SUMMARY:Audiovisual Centre excursionista de Xàbia en Nepal
DESCRIPTION:El pròxim dia 17 de novembre a les 20h en la Casa de la Cultura de Xàbia\, vos esperem a tots per compartir els nostres somnis en el Himàlaia amb tots vosaltres.\nSalut i muntanya
URL:https://www.cexxabia.com/event/audiovisual-centre-excursionista-de-xabia-en-nepal/
LOCATION:Casa de la Cultura – Xàbia\, Plaça de Baix\, 6\, Xàbia\, Alicante\, 03730\, España
CATEGORIES:Activitat Centre
ATTACH;FMTTYPE=image/jpeg:https://www.cexxabia.com/wp-content/uploads/2023/11/17-11-2023-nepal.jpg
END:VEVENT
BEGIN:VEVENT
DTSTART;TZID=Europe/Madrid:20231119T073000
DTEND;TZID=Europe/Madrid:20231119T140000
DTSTAMP:20260422T103617
CREATED:20231030T093120Z
LAST-MODIFIED:20231030T094528Z
UID:4935-1700379000-1700402400@www.cexxabia.com
SUMMARY:Pujada al Cim del Benicadell
DESCRIPTION:III Circuit Set Cims Centre excursionista de Xàbia. \n1.- Pujada al Cim de Bernia \n2.- Pujada al Cim del Benicadell \n3.- Pujada al Cim del Montcabrer \n4.- Pujada al Cim del Montgó \n5.- Pujada al Cim del Cavall Verd \n6.- Pujada al Cim de l’Aitana \n7.- Pujada al Cim de la Malla del Llop
URL:https://www.cexxabia.com/event/pujada-al-cim-del-benicadell/
LOCATION:Parada autobuses\, Avenida Palmela\, Xàbia\, Alicante\, 03730\, España
CATEGORIES:7 cims,circuit,excursión
ATTACH;FMTTYPE=image/jpeg:https://www.cexxabia.com/wp-content/uploads/2023/10/02-benicadell.jpg
END:VEVENT
END:VCALENDAR